Workbook

Sheet README
A1: Crm
A2: Free template from spreadsheet.partners — free for commercial use, no attribution needed.
A4: What this does
A5: A deal register with a weighted pipeline, an idle counter driven by the activity log, and a flag on any deal with no next action.
A7: Fill in
A8: Deals sheet for the pipeline, Activity sheet every time you touch an account, Stages sheet for your own probabilities.
A10: Calculated for you
A11: Idle days, the no-next-action flag, the weighted value and the whole Dashboard.
A13: The two numbers that matter
A14: Deals with no next action, and deals idle more than 14 days. Both are on the Dashboard and both are lists of calls to make.
A17: Blue text on a yellow fill = type here. Black = calculated, leave alone.

Sheet Activity
A1: Activity log
A2: Every touch. The idle counter reads the latest date here.
A4: Date | B4: Company | C4: Note
A5: 2026-03-02 | B5: Acme Logistics | C5: Call — asked for revised scope

Sheet Stages
A1: Stages
A2: Probability drives the weighted pipeline.
A4: Name | B4: Prob
A5: Lead | B5: 0.1
A6: Qualified | B6: 0.25
A7: Proposal | B7: 0.5
A8: Negotiation | B8: 0.75
A9: Closed won | B9: 1
A10: Closed lost | B10: 0

Sheet Deals
A1: Deals | I1: As-of date
I2: =TODAY()
A4: Company | B4: Contact | C4: Stage | D4: Value | E4: Next action | F4: Idle (d) | G4: Flag | H4: Weighted
A5: Acme Logistics | B5: R. Atisu | C5: Proposal | D5: 24000 | E5: Send revised scope | F5: =IF($A5="","",$I$2-SUMPRODUCT(MAX((Activity!$B$5:$B$204=$A5)*Activity!$A$5:$A$204))) | G5: =IF($A5="","",IF($E5="","No next action","")) | H5: =IF($A5="","",$D5*IFERROR(INDEX(Stages!$B$5:$B$24,MATCH($C5,Stages!$A$5:$A$24,0)),0))
F6: =IF($A6="","",$I$2-SUMPRODUCT(MAX((Activity!$B$5:$B$204=$A6)*Activity!$A$5:$A$204))) | G6: =IF($A6="","",IF($E6="","No next action","")) | H6: =IF($A6="","",$D6*IFERROR(INDEX(Stages!$B$5:$B$24,MATCH($C6,Stages!$A$5:$A$24,0)),0))
F7: =IF($A7="","",$I$2-SUMPRODUCT(MAX((Activity!$B$5:$B$204=$A7)*Activity!$A$5:$A$204))) | G7: =IF($A7="","",IF($E7="","No next action","")) | H7: =IF($A7="","",$D7*IFERROR(INDEX(Stages!$B$5:$B$24,MATCH($C7,Stages!$A$5:$A$24,0)),0))
F8: =IF($A8="","",$I$2-SUMPRODUCT(MAX((Activity!$B$5:$B$204=$A8)*Activity!$A$5:$A$204))) | G8: =IF($A8="","",IF($E8="","No next action","")) | H8: =IF($A8="","",$D8*IFERROR(INDEX(Stages!$B$5:$B$24,MATCH($C8,Stages!$A$5:$A$24,0)),0))
F9: =IF($A9="","",$I$2-SUMPRODUCT(MAX((Activity!$B$5:$B$204=$A9)*Activity!$A$5:$A$204))) | G9: =IF($A9="","",IF($E9="","No next action","")) | H9: =IF($A9="","",$D9*IFERROR(INDEX(Stages!$B$5:$B$24,MATCH($C9,Stages!$A$5:$A$24,0)),0))
F10: =IF($A10="","",$I$2-SUMPRODUCT(MAX((Activity!$B$5:$B$204=$A10)*Activity!$A$5:$A$204))) | G10: =IF($A10="","",IF($E10="","No next action","")) | H10: =IF($A10="","",$D10*IFERROR(INDEX(Stages!$B$5:$B$24,MATCH($C10,Stages!$A$5:$A$24,0)),0))
F11: =IF($A11="","",$I$2-SUMPRODUCT(MAX((Activity!$B$5:$B$204=$A11)*Activity!$A$5:$A$204))) | G11: =IF($A11="","",IF($E11="","No next action","")) | H11: =IF($A11="","",$D11*IFERROR(INDEX(Stages!$B$5:$B$24,MATCH($C11,Stages!$A$5:$A$24,0)),0))
F12: =IF($A12="","",$I$2-SUMPRODUCT(MAX((Activity!$B$5:$B$204=$A12)*Activity!$A$5:$A$204))) | G12: =IF($A12="","",IF($E12="","No next action","")) | H12: =IF($A12="","",$D12*IFERROR(INDEX(Stages!$B$5:$B$24,MATCH($C12,Stages!$A$5:$A$24,0)),0))
F13: =IF($A13="","",$I$2-SUMPRODUCT(MAX((Activity!$B$5:$B$204=$A13)*Activity!$A$5:$A$204))) | G13: =IF($A13="","",IF($E13="","No next action","")) | H13: =IF($A13="","",$D13*IFERROR(INDEX(Stages!$B$5:$B$24,MATCH($C13,Stages!$A$5:$A$24,0)),0))
F14: =IF($A14="","",$I$2-SUMPRODUCT(MAX((Activity!$B$5:$B$204=$A14)*Activity!$A$5:$A$204))) | G14: =IF($A14="","",IF($E14="","No next action","")) | H14: =IF($A14="","",$D14*IFERROR(INDEX(Stages!$B$5:$B$24,MATCH($C14,Stages!$A$5:$A$24,0)),0))
F15: =IF($A15="","",$I$2-SUMPRODUCT(MAX((Activity!$B$5:$B$204=$A15)*Activity!$A$5:$A$204))) | G15: =IF($A15="","",IF($E15="","No next action","")) | H15: =IF($A15="","",$D15*IFERROR(INDEX(Stages!$B$5:$B$24,MATCH($C15,Stages!$A$5:$A$24,0)),0))
F16: =IF($A16="","",$I$2-SUMPRODUCT(MAX((Activity!$B$5:$B$204=$A16)*Activity!$A$5:$A$204))) | G16: =IF($A16="","",IF($E16="","No next action","")) | H16: =IF($A16="","",$D16*IFERROR(INDEX(Stages!$B$5:$B$24,MATCH($C16,Stages!$A$5:$A$24,0)),0))
F17: =IF($A17="","",$I$2-SUMPRODUCT(MAX((Activity!$B$5:$B$204=$A17)*Activity!$A$5:$A$204))) | G17: =IF($A17="","",IF($E17="","No next action","")) | H17: =IF($A17="","",$D17*IFERROR(INDEX(Stages!$B$5:$B$24,MATCH($C17,Stages!$A$5:$A$24,0)),0))
... F204: =IF($A204="","",$I$2-SUMPRODUCT(MAX((Activity!$B$5:$B$204=$A204)*Activity!$A$5:$A$204))) | G204: =IF($A204="","",IF($E204="","No next action","")) | H204: =IF($A204="","",$D204*IFERROR(INDEX(Stages!$B$5:$B$24,MATCH($C204,Stages!$A$5:$A$24,0)),0))

Sheet Dashboard
A1: Pipeline by stage
A4: Stage | B4: Deals | C4: Value | D4: Weighted
A5: =IF(Stages!$A5="","",Stages!$A5) | B5: =IF($A5="","",COUNTIFS(Deals!$C$5:$C$204,$A5)) | C5: =IF($A5="","",SUMIFS(Deals!$D$5:$D$204,Deals!$C$5:$C$204,$A5)) | D5: =IF($A5="","",SUMIFS(Deals!$H$5:$H$204,Deals!$C$5:$C$204,$A5))
A6: =IF(Stages!$A6="","",Stages!$A6) | B6: =IF($A6="","",COUNTIFS(Deals!$C$5:$C$204,$A6)) | C6: =IF($A6="","",SUMIFS(Deals!$D$5:$D$204,Deals!$C$5:$C$204,$A6)) | D6: =IF($A6="","",SUMIFS(Deals!$H$5:$H$204,Deals!$C$5:$C$204,$A6))
A7: =IF(Stages!$A7="","",Stages!$A7) | B7: =IF($A7="","",COUNTIFS(Deals!$C$5:$C$204,$A7)) | C7: =IF($A7="","",SUMIFS(Deals!$D$5:$D$204,Deals!$C$5:$C$204,$A7)) | D7: =IF($A7="","",SUMIFS(Deals!$H$5:$H$204,Deals!$C$5:$C$204,$A7))
A8: =IF(Stages!$A8="","",Stages!$A8) | B8: =IF($A8="","",COUNTIFS(Deals!$C$5:$C$204,$A8)) | C8: =IF($A8="","",SUMIFS(Deals!$D$5:$D$204,Deals!$C$5:$C$204,$A8)) | D8: =IF($A8="","",SUMIFS(Deals!$H$5:$H$204,Deals!$C$5:$C$204,$A8))
A9: =IF(Stages!$A9="","",Stages!$A9) | B9: =IF($A9="","",COUNTIFS(Deals!$C$5:$C$204,$A9)) | C9: =IF($A9="","",SUMIFS(Deals!$D$5:$D$204,Deals!$C$5:$C$204,$A9)) | D9: =IF($A9="","",SUMIFS(Deals!$H$5:$H$204,Deals!$C$5:$C$204,$A9))
A10: =IF(Stages!$A10="","",Stages!$A10) | B10: =IF($A10="","",COUNTIFS(Deals!$C$5:$C$204,$A10)) | C10: =IF($A10="","",SUMIFS(Deals!$D$5:$D$204,Deals!$C$5:$C$204,$A10)) | D10: =IF($A10="","",SUMIFS(Deals!$H$5:$H$204,Deals!$C$5:$C$204,$A10))
A11: =IF(Stages!$A11="","",Stages!$A11) | B11: =IF($A11="","",COUNTIFS(Deals!$C$5:$C$204,$A11)) | C11: =IF($A11="","",SUMIFS(Deals!$D$5:$D$204,Deals!$C$5:$C$204,$A11)) | D11: =IF($A11="","",SUMIFS(Deals!$H$5:$H$204,Deals!$C$5:$C$204,$A11))
A12: =IF(Stages!$A12="","",Stages!$A12) | B12: =IF($A12="","",COUNTIFS(Deals!$C$5:$C$204,$A12)) | C12: =IF($A12="","",SUMIFS(Deals!$D$5:$D$204,Deals!$C$5:$C$204,$A12)) | D12: =IF($A12="","",SUMIFS(Deals!$H$5:$H$204,Deals!$C$5:$C$204,$A12))
A13: =IF(Stages!$A13="","",Stages!$A13) | B13: =IF($A13="","",COUNTIFS(Deals!$C$5:$C$204,$A13)) | C13: =IF($A13="","",SUMIFS(Deals!$D$5:$D$204,Deals!$C$5:$C$204,$A13)) | D13: =IF($A13="","",SUMIFS(Deals!$H$5:$H$204,Deals!$C$5:$C$204,$A13))
A14: =IF(Stages!$A14="","",Stages!$A14) | B14: =IF($A14="","",COUNTIFS(Deals!$C$5:$C$204,$A14)) | C14: =IF($A14="","",SUMIFS(Deals!$D$5:$D$204,Deals!$C$5:$C$204,$A14)) | D14: =IF($A14="","",SUMIFS(Deals!$H$5:$H$204,Deals!$C$5:$C$204,$A14))
A17: Deals with no next action | B17: =COUNTIFS(Deals!$G$5:$G$204,"No next action")
A18: Idle more than 14 days | B18: =COUNTIFS(Deals!$F$5:$F$204,">14")
