Workbook

Sheet README
A1: Marketing Budget
A2: Free template from spreadsheet.partners — free for commercial use, no attribution needed.
A4: What this does
A5: Tracks planned against actual spend per channel, credits revenue back to the channel that produced it, and shows whether each channel is pacing ahead of or behind plan.
A7: Fill in
A8: Spend sheet for every invoice, Attribution sheet for every closed deal with its channel, Channels sheet for the annual plan.
A10: Calculated for you
A11: Spent, Revenue, ROI, share of budget and pacing.
A13: Month to date
A14: Cell I2 on the Channels sheet holds the current month number. Pacing compares spend so far against that share of the annual plan.
A17: Blue text on a yellow fill = type here. Black = calculated, leave alone.

Sheet Spend
A1: Spend log
A4: Date | B4: Month | C4: Channel | D4: Description | E4: Amount
A5: 2026-02-14 | B5: =IF($A5="","",MONTH($A5)) | C5: Paid search | D5: Google Ads — February | E5: 1840
B6: =IF($A6="","",MONTH($A6))
B7: =IF($A7="","",MONTH($A7))
B8: =IF($A8="","",MONTH($A8))
B9: =IF($A9="","",MONTH($A9))
B10: =IF($A10="","",MONTH($A10))
B11: =IF($A11="","",MONTH($A11))
B12: =IF($A12="","",MONTH($A12))
B13: =IF($A13="","",MONTH($A13))
B14: =IF($A14="","",MONTH($A14))
B15: =IF($A15="","",MONTH($A15))
B16: =IF($A16="","",MONTH($A16))
B17: =IF($A17="","",MONTH($A17))
... B204: =IF($A204="","",MONTH($A204))

Sheet Attribution
A1: Attribution
A2: Revenue credited to a channel.
A4: Deal | B4: Channel | C4: Value | D4: Closed

Sheet Channels
A1: Channels | I1: Month to date
I2: 3
A4: Channel | B4: Planned | C4: Spent | D4: Revenue | E4: ROI | F4: % of budget | G4: Pacing
A5: Paid search | B5: 24000 | C5: =IF($A5="","",SUMIFS(Spend!$E$5:$E$204,Spend!$C$5:$C$204,$A5,Spend!$B$5:$B$204,"<="&$I$2)) | D5: =IF($A5="","",SUMIFS(Attribution!$C$5:$C$204,Attribution!$B$5:$B$204,$A5)) | E5: =IF($C5=0,"",$D5/$C5) | F5: =IFERROR($C5/SUM($C$5:$C$34),"") | G5: =IFERROR($C5/($B5*$I$2/12),"")
C6: =IF($A6="","",SUMIFS(Spend!$E$5:$E$204,Spend!$C$5:$C$204,$A6,Spend!$B$5:$B$204,"<="&$I$2)) | D6: =IF($A6="","",SUMIFS(Attribution!$C$5:$C$204,Attribution!$B$5:$B$204,$A6)) | E6: =IF($C6=0,"",$D6/$C6) | F6: =IFERROR($C6/SUM($C$5:$C$34),"") | G6: =IFERROR($C6/($B6*$I$2/12),"")
C7: =IF($A7="","",SUMIFS(Spend!$E$5:$E$204,Spend!$C$5:$C$204,$A7,Spend!$B$5:$B$204,"<="&$I$2)) | D7: =IF($A7="","",SUMIFS(Attribution!$C$5:$C$204,Attribution!$B$5:$B$204,$A7)) | E7: =IF($C7=0,"",$D7/$C7) | F7: =IFERROR($C7/SUM($C$5:$C$34),"") | G7: =IFERROR($C7/($B7*$I$2/12),"")
C8: =IF($A8="","",SUMIFS(Spend!$E$5:$E$204,Spend!$C$5:$C$204,$A8,Spend!$B$5:$B$204,"<="&$I$2)) | D8: =IF($A8="","",SUMIFS(Attribution!$C$5:$C$204,Attribution!$B$5:$B$204,$A8)) | E8: =IF($C8=0,"",$D8/$C8) | F8: =IFERROR($C8/SUM($C$5:$C$34),"") | G8: =IFERROR($C8/($B8*$I$2/12),"")
C9: =IF($A9="","",SUMIFS(Spend!$E$5:$E$204,Spend!$C$5:$C$204,$A9,Spend!$B$5:$B$204,"<="&$I$2)) | D9: =IF($A9="","",SUMIFS(Attribution!$C$5:$C$204,Attribution!$B$5:$B$204,$A9)) | E9: =IF($C9=0,"",$D9/$C9) | F9: =IFERROR($C9/SUM($C$5:$C$34),"") | G9: =IFERROR($C9/($B9*$I$2/12),"")
C10: =IF($A10="","",SUMIFS(Spend!$E$5:$E$204,Spend!$C$5:$C$204,$A10,Spend!$B$5:$B$204,"<="&$I$2)) | D10: =IF($A10="","",SUMIFS(Attribution!$C$5:$C$204,Attribution!$B$5:$B$204,$A10)) | E10: =IF($C10=0,"",$D10/$C10) | F10: =IFERROR($C10/SUM($C$5:$C$34),"") | G10: =IFERROR($C10/($B10*$I$2/12),"")
C11: =IF($A11="","",SUMIFS(Spend!$E$5:$E$204,Spend!$C$5:$C$204,$A11,Spend!$B$5:$B$204,"<="&$I$2)) | D11: =IF($A11="","",SUMIFS(Attribution!$C$5:$C$204,Attribution!$B$5:$B$204,$A11)) | E11: =IF($C11=0,"",$D11/$C11) | F11: =IFERROR($C11/SUM($C$5:$C$34),"") | G11: =IFERROR($C11/($B11*$I$2/12),"")
C12: =IF($A12="","",SUMIFS(Spend!$E$5:$E$204,Spend!$C$5:$C$204,$A12,Spend!$B$5:$B$204,"<="&$I$2)) | D12: =IF($A12="","",SUMIFS(Attribution!$C$5:$C$204,Attribution!$B$5:$B$204,$A12)) | E12: =IF($C12=0,"",$D12/$C12) | F12: =IFERROR($C12/SUM($C$5:$C$34),"") | G12: =IFERROR($C12/($B12*$I$2/12),"")
C13: =IF($A13="","",SUMIFS(Spend!$E$5:$E$204,Spend!$C$5:$C$204,$A13,Spend!$B$5:$B$204,"<="&$I$2)) | D13: =IF($A13="","",SUMIFS(Attribution!$C$5:$C$204,Attribution!$B$5:$B$204,$A13)) | E13: =IF($C13=0,"",$D13/$C13) | F13: =IFERROR($C13/SUM($C$5:$C$34),"") | G13: =IFERROR($C13/($B13*$I$2/12),"")
C14: =IF($A14="","",SUMIFS(Spend!$E$5:$E$204,Spend!$C$5:$C$204,$A14,Spend!$B$5:$B$204,"<="&$I$2)) | D14: =IF($A14="","",SUMIFS(Attribution!$C$5:$C$204,Attribution!$B$5:$B$204,$A14)) | E14: =IF($C14=0,"",$D14/$C14) | F14: =IFERROR($C14/SUM($C$5:$C$34),"") | G14: =IFERROR($C14/($B14*$I$2/12),"")
C15: =IF($A15="","",SUMIFS(Spend!$E$5:$E$204,Spend!$C$5:$C$204,$A15,Spend!$B$5:$B$204,"<="&$I$2)) | D15: =IF($A15="","",SUMIFS(Attribution!$C$5:$C$204,Attribution!$B$5:$B$204,$A15)) | E15: =IF($C15=0,"",$D15/$C15) | F15: =IFERROR($C15/SUM($C$5:$C$34),"") | G15: =IFERROR($C15/($B15*$I$2/12),"")
C16: =IF($A16="","",SUMIFS(Spend!$E$5:$E$204,Spend!$C$5:$C$204,$A16,Spend!$B$5:$B$204,"<="&$I$2)) | D16: =IF($A16="","",SUMIFS(Attribution!$C$5:$C$204,Attribution!$B$5:$B$204,$A16)) | E16: =IF($C16=0,"",$D16/$C16) | F16: =IFERROR($C16/SUM($C$5:$C$34),"") | G16: =IFERROR($C16/($B16*$I$2/12),"")
C17: =IF($A17="","",SUMIFS(Spend!$E$5:$E$204,Spend!$C$5:$C$204,$A17,Spend!$B$5:$B$204,"<="&$I$2)) | D17: =IF($A17="","",SUMIFS(Attribution!$C$5:$C$204,Attribution!$B$5:$B$204,$A17)) | E17: =IF($C17=0,"",$D17/$C17) | F17: =IFERROR($C17/SUM($C$5:$C$34),"") | G17: =IFERROR($C17/($B17*$I$2/12),"")
... C34: =IF($A34="","",SUMIFS(Spend!$E$5:$E$204,Spend!$C$5:$C$204,$A34,Spend!$B$5:$B$204,"<="&$I$2)) | D34: =IF($A34="","",SUMIFS(Attribution!$C$5:$C$204,Attribution!$B$5:$B$204,$A34)) | E34: =IF($C34=0,"",$D34/$C34) | F34: =IFERROR($C34/SUM($C$5:$C$34),"") | G34: =IFERROR($C34/($B34*$I$2/12),"")

Sheet Pacing
A1: Pacing
A2: Above 100% means spending faster than the plan.
A4: Channel | B4: Planned | C4: Spent | D4: Pacing
A5: =IF(Channels!$A5="","",Channels!$A5) | B5: =IF(Channels!$A5="","",Channels!$B5) | C5: =IF(Channels!$A5="","",Channels!$C5) | D5: =IF(Channels!$A5="","",Channels!$G5)
A6: =IF(Channels!$A6="","",Channels!$A6) | B6: =IF(Channels!$A6="","",Channels!$B6) | C6: =IF(Channels!$A6="","",Channels!$C6) | D6: =IF(Channels!$A6="","",Channels!$G6)
A7: =IF(Channels!$A7="","",Channels!$A7) | B7: =IF(Channels!$A7="","",Channels!$B7) | C7: =IF(Channels!$A7="","",Channels!$C7) | D7: =IF(Channels!$A7="","",Channels!$G7)
A8: =IF(Channels!$A8="","",Channels!$A8) | B8: =IF(Channels!$A8="","",Channels!$B8) | C8: =IF(Channels!$A8="","",Channels!$C8) | D8: =IF(Channels!$A8="","",Channels!$G8)
A9: =IF(Channels!$A9="","",Channels!$A9) | B9: =IF(Channels!$A9="","",Channels!$B9) | C9: =IF(Channels!$A9="","",Channels!$C9) | D9: =IF(Channels!$A9="","",Channels!$G9)
A10: =IF(Channels!$A10="","",Channels!$A10) | B10: =IF(Channels!$A10="","",Channels!$B10) | C10: =IF(Channels!$A10="","",Channels!$C10) | D10: =IF(Channels!$A10="","",Channels!$G10)
A11: =IF(Channels!$A11="","",Channels!$A11) | B11: =IF(Channels!$A11="","",Channels!$B11) | C11: =IF(Channels!$A11="","",Channels!$C11) | D11: =IF(Channels!$A11="","",Channels!$G11)
A12: =IF(Channels!$A12="","",Channels!$A12) | B12: =IF(Channels!$A12="","",Channels!$B12) | C12: =IF(Channels!$A12="","",Channels!$C12) | D12: =IF(Channels!$A12="","",Channels!$G12)
A13: =IF(Channels!$A13="","",Channels!$A13) | B13: =IF(Channels!$A13="","",Channels!$B13) | C13: =IF(Channels!$A13="","",Channels!$C13) | D13: =IF(Channels!$A13="","",Channels!$G13)
A14: =IF(Channels!$A14="","",Channels!$A14) | B14: =IF(Channels!$A14="","",Channels!$B14) | C14: =IF(Channels!$A14="","",Channels!$C14) | D14: =IF(Channels!$A14="","",Channels!$G14)
A15: =IF(Channels!$A15="","",Channels!$A15) | B15: =IF(Channels!$A15="","",Channels!$B15) | C15: =IF(Channels!$A15="","",Channels!$C15) | D15: =IF(Channels!$A15="","",Channels!$G15)
A16: =IF(Channels!$A16="","",Channels!$A16) | B16: =IF(Channels!$A16="","",Channels!$B16) | C16: =IF(Channels!$A16="","",Channels!$C16) | D16: =IF(Channels!$A16="","",Channels!$G16)
... A34: =IF(Channels!$A34="","",Channels!$A34) | B34: =IF(Channels!$A34="","",Channels!$B34) | C34: =IF(Channels!$A34="","",Channels!$C34) | D34: =IF(Channels!$A34="","",Channels!$G34)
