Workbook

Sheet README
A1: Seo Keyword Planner
A2: Free template from spreadsheet.partners — free for commercial use, no attribution needed.
A4: What this does
A5: Scores keywords on volume, difficulty and intent so the list can be ordered by something other than volume, then groups them into clusters one page can serve.
A7: Fill in
A8: Keywords sheet: keyword, monthly volume, difficulty 0-100, intent, and your current position if you have one. Intent sheet: what each intent is worth to you.
A10: Calculated for you
A11: Weight, Score, estimated clicks and both summary sheets.
A13: Why the log
A14: Score uses LN(volume) because the difference between 100 and 1,000 searches matters far more than between 10,000 and 100,000 — raw volume puts vanity terms at the top.
A16: Move is positive when you improve
A17: Start minus Latest, so climbing from 18 to 6 reads +12.
A20: Blue text on a yellow fill = type here. Black = calculated, leave alone.

Sheet Intent
A1: Intent weights
A2: How much a click of each intent is worth to you.
A4: Type | B4: Weight
A5: Transactional | B5: 1
A6: Commercial | B6: 0.8
A7: Informational | B7: 0.4
A8: Navigational | B8: 0.2

Sheet Keywords
A1: Keywords
A4: Keyword | B4: Volume | C4: KD | D4: Intent | E4: Position | F4: Weight | G4: Score | H4: Est. clicks
A5: shipment tracking template excel | B5: 1900 | C5: 24 | D5: Commercial | E5: 8 | F5: =IF($A5="","",IFERROR(INDEX(Intent!$B$5:$B$14,MATCH($D5,Intent!$A$5:$A$14,0)),0)) | G5: =IF(OR($A5="",$B5<=0),"",ROUND(LN($B5)*10*(1-$C5/100)*$F5,0)) | H5: =IF($E5="",0,IF($E5<=3,0.3,IF($E5<=10,0.08,0.01))*$B5)
F6: =IF($A6="","",IFERROR(INDEX(Intent!$B$5:$B$14,MATCH($D6,Intent!$A$5:$A$14,0)),0)) | G6: =IF(OR($A6="",$B6<=0),"",ROUND(LN($B6)*10*(1-$C6/100)*$F6,0)) | H6: =IF($E6="",0,IF($E6<=3,0.3,IF($E6<=10,0.08,0.01))*$B6)
F7: =IF($A7="","",IFERROR(INDEX(Intent!$B$5:$B$14,MATCH($D7,Intent!$A$5:$A$14,0)),0)) | G7: =IF(OR($A7="",$B7<=0),"",ROUND(LN($B7)*10*(1-$C7/100)*$F7,0)) | H7: =IF($E7="",0,IF($E7<=3,0.3,IF($E7<=10,0.08,0.01))*$B7)
F8: =IF($A8="","",IFERROR(INDEX(Intent!$B$5:$B$14,MATCH($D8,Intent!$A$5:$A$14,0)),0)) | G8: =IF(OR($A8="",$B8<=0),"",ROUND(LN($B8)*10*(1-$C8/100)*$F8,0)) | H8: =IF($E8="",0,IF($E8<=3,0.3,IF($E8<=10,0.08,0.01))*$B8)
F9: =IF($A9="","",IFERROR(INDEX(Intent!$B$5:$B$14,MATCH($D9,Intent!$A$5:$A$14,0)),0)) | G9: =IF(OR($A9="",$B9<=0),"",ROUND(LN($B9)*10*(1-$C9/100)*$F9,0)) | H9: =IF($E9="",0,IF($E9<=3,0.3,IF($E9<=10,0.08,0.01))*$B9)
F10: =IF($A10="","",IFERROR(INDEX(Intent!$B$5:$B$14,MATCH($D10,Intent!$A$5:$A$14,0)),0)) | G10: =IF(OR($A10="",$B10<=0),"",ROUND(LN($B10)*10*(1-$C10/100)*$F10,0)) | H10: =IF($E10="",0,IF($E10<=3,0.3,IF($E10<=10,0.08,0.01))*$B10)
F11: =IF($A11="","",IFERROR(INDEX(Intent!$B$5:$B$14,MATCH($D11,Intent!$A$5:$A$14,0)),0)) | G11: =IF(OR($A11="",$B11<=0),"",ROUND(LN($B11)*10*(1-$C11/100)*$F11,0)) | H11: =IF($E11="",0,IF($E11<=3,0.3,IF($E11<=10,0.08,0.01))*$B11)
F12: =IF($A12="","",IFERROR(INDEX(Intent!$B$5:$B$14,MATCH($D12,Intent!$A$5:$A$14,0)),0)) | G12: =IF(OR($A12="",$B12<=0),"",ROUND(LN($B12)*10*(1-$C12/100)*$F12,0)) | H12: =IF($E12="",0,IF($E12<=3,0.3,IF($E12<=10,0.08,0.01))*$B12)
F13: =IF($A13="","",IFERROR(INDEX(Intent!$B$5:$B$14,MATCH($D13,Intent!$A$5:$A$14,0)),0)) | G13: =IF(OR($A13="",$B13<=0),"",ROUND(LN($B13)*10*(1-$C13/100)*$F13,0)) | H13: =IF($E13="",0,IF($E13<=3,0.3,IF($E13<=10,0.08,0.01))*$B13)
F14: =IF($A14="","",IFERROR(INDEX(Intent!$B$5:$B$14,MATCH($D14,Intent!$A$5:$A$14,0)),0)) | G14: =IF(OR($A14="",$B14<=0),"",ROUND(LN($B14)*10*(1-$C14/100)*$F14,0)) | H14: =IF($E14="",0,IF($E14<=3,0.3,IF($E14<=10,0.08,0.01))*$B14)
F15: =IF($A15="","",IFERROR(INDEX(Intent!$B$5:$B$14,MATCH($D15,Intent!$A$5:$A$14,0)),0)) | G15: =IF(OR($A15="",$B15<=0),"",ROUND(LN($B15)*10*(1-$C15/100)*$F15,0)) | H15: =IF($E15="",0,IF($E15<=3,0.3,IF($E15<=10,0.08,0.01))*$B15)
F16: =IF($A16="","",IFERROR(INDEX(Intent!$B$5:$B$14,MATCH($D16,Intent!$A$5:$A$14,0)),0)) | G16: =IF(OR($A16="",$B16<=0),"",ROUND(LN($B16)*10*(1-$C16/100)*$F16,0)) | H16: =IF($E16="",0,IF($E16<=3,0.3,IF($E16<=10,0.08,0.01))*$B16)
F17: =IF($A17="","",IFERROR(INDEX(Intent!$B$5:$B$14,MATCH($D17,Intent!$A$5:$A$14,0)),0)) | G17: =IF(OR($A17="",$B17<=0),"",ROUND(LN($B17)*10*(1-$C17/100)*$F17,0)) | H17: =IF($E17="",0,IF($E17<=3,0.3,IF($E17<=10,0.08,0.01))*$B17)
... F204: =IF($A204="","",IFERROR(INDEX(Intent!$B$5:$B$14,MATCH($D204,Intent!$A$5:$A$14,0)),0)) | G204: =IF(OR($A204="",$B204<=0),"",ROUND(LN($B204)*10*(1-$C204/100)*$F204,0)) | H204: =IF($E204="",0,IF($E204<=3,0.3,IF($E204<=10,0.08,0.01))*$B204)

Sheet Clusters
A1: Clusters
A2: Group keywords that one page can serve.
A4: Cluster | B4: Keywords | C4: Total volume | D4: Avg KD | E4: Total score
A5: shipment tracking | B5: =IF($A5="","",COUNTIF(Keywords!$A$5:$A$204,"*"&$A5&"*")) | C5: =IF($A5="","",SUMIF(Keywords!$A$5:$A$204,"*"&$A5&"*",Keywords!$B$5:$B$204)) | D5: =IFERROR(AVERAGEIF(Keywords!$A$5:$A$204,"*"&$A5&"*",Keywords!$C$5:$C$204),"") | E5: =IF($A5="","",SUMIF(Keywords!$A$5:$A$204,"*"&$A5&"*",Keywords!$G$5:$G$204))
B6: =IF($A6="","",COUNTIF(Keywords!$A$5:$A$204,"*"&$A6&"*")) | C6: =IF($A6="","",SUMIF(Keywords!$A$5:$A$204,"*"&$A6&"*",Keywords!$B$5:$B$204)) | D6: =IFERROR(AVERAGEIF(Keywords!$A$5:$A$204,"*"&$A6&"*",Keywords!$C$5:$C$204),"") | E6: =IF($A6="","",SUMIF(Keywords!$A$5:$A$204,"*"&$A6&"*",Keywords!$G$5:$G$204))
B7: =IF($A7="","",COUNTIF(Keywords!$A$5:$A$204,"*"&$A7&"*")) | C7: =IF($A7="","",SUMIF(Keywords!$A$5:$A$204,"*"&$A7&"*",Keywords!$B$5:$B$204)) | D7: =IFERROR(AVERAGEIF(Keywords!$A$5:$A$204,"*"&$A7&"*",Keywords!$C$5:$C$204),"") | E7: =IF($A7="","",SUMIF(Keywords!$A$5:$A$204,"*"&$A7&"*",Keywords!$G$5:$G$204))
B8: =IF($A8="","",COUNTIF(Keywords!$A$5:$A$204,"*"&$A8&"*")) | C8: =IF($A8="","",SUMIF(Keywords!$A$5:$A$204,"*"&$A8&"*",Keywords!$B$5:$B$204)) | D8: =IFERROR(AVERAGEIF(Keywords!$A$5:$A$204,"*"&$A8&"*",Keywords!$C$5:$C$204),"") | E8: =IF($A8="","",SUMIF(Keywords!$A$5:$A$204,"*"&$A8&"*",Keywords!$G$5:$G$204))
B9: =IF($A9="","",COUNTIF(Keywords!$A$5:$A$204,"*"&$A9&"*")) | C9: =IF($A9="","",SUMIF(Keywords!$A$5:$A$204,"*"&$A9&"*",Keywords!$B$5:$B$204)) | D9: =IFERROR(AVERAGEIF(Keywords!$A$5:$A$204,"*"&$A9&"*",Keywords!$C$5:$C$204),"") | E9: =IF($A9="","",SUMIF(Keywords!$A$5:$A$204,"*"&$A9&"*",Keywords!$G$5:$G$204))
B10: =IF($A10="","",COUNTIF(Keywords!$A$5:$A$204,"*"&$A10&"*")) | C10: =IF($A10="","",SUMIF(Keywords!$A$5:$A$204,"*"&$A10&"*",Keywords!$B$5:$B$204)) | D10: =IFERROR(AVERAGEIF(Keywords!$A$5:$A$204,"*"&$A10&"*",Keywords!$C$5:$C$204),"") | E10: =IF($A10="","",SUMIF(Keywords!$A$5:$A$204,"*"&$A10&"*",Keywords!$G$5:$G$204))
B11: =IF($A11="","",COUNTIF(Keywords!$A$5:$A$204,"*"&$A11&"*")) | C11: =IF($A11="","",SUMIF(Keywords!$A$5:$A$204,"*"&$A11&"*",Keywords!$B$5:$B$204)) | D11: =IFERROR(AVERAGEIF(Keywords!$A$5:$A$204,"*"&$A11&"*",Keywords!$C$5:$C$204),"") | E11: =IF($A11="","",SUMIF(Keywords!$A$5:$A$204,"*"&$A11&"*",Keywords!$G$5:$G$204))
B12: =IF($A12="","",COUNTIF(Keywords!$A$5:$A$204,"*"&$A12&"*")) | C12: =IF($A12="","",SUMIF(Keywords!$A$5:$A$204,"*"&$A12&"*",Keywords!$B$5:$B$204)) | D12: =IFERROR(AVERAGEIF(Keywords!$A$5:$A$204,"*"&$A12&"*",Keywords!$C$5:$C$204),"") | E12: =IF($A12="","",SUMIF(Keywords!$A$5:$A$204,"*"&$A12&"*",Keywords!$G$5:$G$204))
B13: =IF($A13="","",COUNTIF(Keywords!$A$5:$A$204,"*"&$A13&"*")) | C13: =IF($A13="","",SUMIF(Keywords!$A$5:$A$204,"*"&$A13&"*",Keywords!$B$5:$B$204)) | D13: =IFERROR(AVERAGEIF(Keywords!$A$5:$A$204,"*"&$A13&"*",Keywords!$C$5:$C$204),"") | E13: =IF($A13="","",SUMIF(Keywords!$A$5:$A$204,"*"&$A13&"*",Keywords!$G$5:$G$204))
B14: =IF($A14="","",COUNTIF(Keywords!$A$5:$A$204,"*"&$A14&"*")) | C14: =IF($A14="","",SUMIF(Keywords!$A$5:$A$204,"*"&$A14&"*",Keywords!$B$5:$B$204)) | D14: =IFERROR(AVERAGEIF(Keywords!$A$5:$A$204,"*"&$A14&"*",Keywords!$C$5:$C$204),"") | E14: =IF($A14="","",SUMIF(Keywords!$A$5:$A$204,"*"&$A14&"*",Keywords!$G$5:$G$204))
B15: =IF($A15="","",COUNTIF(Keywords!$A$5:$A$204,"*"&$A15&"*")) | C15: =IF($A15="","",SUMIF(Keywords!$A$5:$A$204,"*"&$A15&"*",Keywords!$B$5:$B$204)) | D15: =IFERROR(AVERAGEIF(Keywords!$A$5:$A$204,"*"&$A15&"*",Keywords!$C$5:$C$204),"") | E15: =IF($A15="","",SUMIF(Keywords!$A$5:$A$204,"*"&$A15&"*",Keywords!$G$5:$G$204))
B16: =IF($A16="","",COUNTIF(Keywords!$A$5:$A$204,"*"&$A16&"*")) | C16: =IF($A16="","",SUMIF(Keywords!$A$5:$A$204,"*"&$A16&"*",Keywords!$B$5:$B$204)) | D16: =IFERROR(AVERAGEIF(Keywords!$A$5:$A$204,"*"&$A16&"*",Keywords!$C$5:$C$204),"") | E16: =IF($A16="","",SUMIF(Keywords!$A$5:$A$204,"*"&$A16&"*",Keywords!$G$5:$G$204))
B17: =IF($A17="","",COUNTIF(Keywords!$A$5:$A$204,"*"&$A17&"*")) | C17: =IF($A17="","",SUMIF(Keywords!$A$5:$A$204,"*"&$A17&"*",Keywords!$B$5:$B$204)) | D17: =IFERROR(AVERAGEIF(Keywords!$A$5:$A$204,"*"&$A17&"*",Keywords!$C$5:$C$204),"") | E17: =IF($A17="","",SUMIF(Keywords!$A$5:$A$204,"*"&$A17&"*",Keywords!$G$5:$G$204))
... B44: =IF($A44="","",COUNTIF(Keywords!$A$5:$A$204,"*"&$A44&"*")) | C44: =IF($A44="","",SUMIF(Keywords!$A$5:$A$204,"*"&$A44&"*",Keywords!$B$5:$B$204)) | D44: =IFERROR(AVERAGEIF(Keywords!$A$5:$A$204,"*"&$A44&"*",Keywords!$C$5:$C$204),"") | E44: =IF($A44="","",SUMIF(Keywords!$A$5:$A$204,"*"&$A44&"*",Keywords!$G$5:$G$204))

Sheet Tracking
A1: Position tracking
A2: Add a column per check; the movement is the point.
A4: Keyword | B4: Start | C4: Latest | D4: Move
A5: =IF(Keywords!$A5="","",Keywords!$A5) | D5: =IF(OR($B5="",$C5=""),"",$B5-$C5)
A6: =IF(Keywords!$A6="","",Keywords!$A6) | D6: =IF(OR($B6="",$C6=""),"",$B6-$C6)
A7: =IF(Keywords!$A7="","",Keywords!$A7) | D7: =IF(OR($B7="",$C7=""),"",$B7-$C7)
A8: =IF(Keywords!$A8="","",Keywords!$A8) | D8: =IF(OR($B8="",$C8=""),"",$B8-$C8)
A9: =IF(Keywords!$A9="","",Keywords!$A9) | D9: =IF(OR($B9="",$C9=""),"",$B9-$C9)
A10: =IF(Keywords!$A10="","",Keywords!$A10) | D10: =IF(OR($B10="",$C10=""),"",$B10-$C10)
A11: =IF(Keywords!$A11="","",Keywords!$A11) | D11: =IF(OR($B11="",$C11=""),"",$B11-$C11)
A12: =IF(Keywords!$A12="","",Keywords!$A12) | D12: =IF(OR($B12="",$C12=""),"",$B12-$C12)
A13: =IF(Keywords!$A13="","",Keywords!$A13) | D13: =IF(OR($B13="",$C13=""),"",$B13-$C13)
A14: =IF(Keywords!$A14="","",Keywords!$A14) | D14: =IF(OR($B14="",$C14=""),"",$B14-$C14)
A15: =IF(Keywords!$A15="","",Keywords!$A15) | D15: =IF(OR($B15="",$C15=""),"",$B15-$C15)
A16: =IF(Keywords!$A16="","",Keywords!$A16) | D16: =IF(OR($B16="",$C16=""),"",$B16-$C16)
... A204: =IF(Keywords!$A204="","",Keywords!$A204) | D204: =IF(OR($B204="",$C204=""),"",$B204-$C204)
